BEGIN:VCALENDAR
VERSION:2.0
PRODID:-//Escuela Kintsugi - ECPv6.15.20//NONSGML v1.0//EN
CALSCALE:GREGORIAN
METHOD:PUBLISH
X-WR-CALNAME:Escuela Kintsugi
X-ORIGINAL-URL:https://www.escuelakintsugi.com
X-WR-CALDESC:Eventos para Escuela Kintsugi
REFRESH-INTERVAL;VALUE=DURATION:PT1H
X-Robots-Tag:noindex
X-PUBLISHED-TTL:PT1H
BEGIN:VTIMEZONE
TZID:Europe/Madrid
BEGIN:DAYLIGHT
TZOFFSETFROM:+0100
TZOFFSETTO:+0200
TZNAME:CEST
DTSTART:20250330T010000
END:DAYLIGHT
BEGIN:STANDARD
TZOFFSETFROM:+0200
TZOFFSETTO:+0100
TZNAME:CET
DTSTART:20251026T010000
END:STANDARD
BEGIN:DAYLIGHT
TZOFFSETFROM:+0100
TZOFFSETTO:+0200
TZNAME:CEST
DTSTART:20260329T010000
END:DAYLIGHT
BEGIN:STANDARD
TZOFFSETFROM:+0200
TZOFFSETTO:+0100
TZNAME:CET
DTSTART:20261025T010000
END:STANDARD
BEGIN:DAYLIGHT
TZOFFSETFROM:+0100
TZOFFSETTO:+0200
TZNAME:CEST
DTSTART:20270328T010000
END:DAYLIGHT
BEGIN:STANDARD
TZOFFSETFROM:+0200
TZOFFSETTO:+0100
TZNAME:CET
DTSTART:20271031T010000
END:STANDARD
END:VTIMEZONE
BEGIN:VEVENT
DTSTART;TZID=Europe/Madrid:20260604T191500
DTEND;TZID=Europe/Madrid:20260604T211500
DTSTAMP:20260424T122505
CREATED:20260414T154147Z
LAST-MODIFIED:20260414T154147Z
UID:5920-1780600500-1780607700@www.escuelakintsugi.com
SUMMARY:BIODANZAalcoi
DESCRIPTION:Grup regular de Biodanza\n(nivell iniciació)
URL:https://www.escuelakintsugi.com/evento/biodanzaalcoi-28
LOCATION:Tiferet\, C/ Reconquesta\, 20\, Alcoi\, Alacant
CATEGORIES:Biodanza
ORGANIZER;CN="Dolors Sanchis":MAILTO:dsanchisalos@gmail.com
END:VEVENT
BEGIN:VEVENT
DTSTART;TZID=Europe/Madrid:20260605T173000
DTEND;TZID=Europe/Madrid:20260607T180000
DTSTAMP:20260424T122505
CREATED:20260217T091435Z
LAST-MODIFIED:20260313T121606Z
UID:5826-1780680600-1780855200@www.escuelakintsugi.com
SUMMARY:Formació de Reiki II
DESCRIPTION:¡Fórmate completa y profesionalmente en Reiki II!\n(5\, 6 y 7 de junio)\nSi buscas una formación completa y profesional donde el rigor y el cuidado son fundamentales\, ésta puede ser tu oportunidad.\nSi ya estás iniciado/a en Reiki y quieres volver a sentir la presencia del Reiki en tu vida o completar tu formación\, quizá éste también es tu momento. \nLlámame o escríbeme al 654 439 673 y hablamos. \n¡Inscíbete ya! \nMás información sobre esta actividad
URL:https://www.escuelakintsugi.com/evento/formacio-de-reiki-ii
LOCATION:Serenity House Spain\, Alcoi\, Alicante\, Spain
CATEGORIES:Reiki
ORGANIZER;CN="Dolors Sanchis":MAILTO:dsanchisalos@gmail.com
END:VEVENT
BEGIN:VEVENT
DTSTART;TZID=Europe/Madrid:20260611T191500
DTEND;TZID=Europe/Madrid:20260611T211500
DTSTAMP:20260424T122505
CREATED:20260414T154207Z
LAST-MODIFIED:20260414T154207Z
UID:5919-1781205300-1781212500@www.escuelakintsugi.com
SUMMARY:BIODANZAalcoi
DESCRIPTION:Grup regular de Biodanza\n(nivell iniciació)
URL:https://www.escuelakintsugi.com/evento/biodanzaalcoi-29
LOCATION:Tiferet\, C/ Reconquesta\, 20\, Alcoi\, Alacant
CATEGORIES:Biodanza
ORGANIZER;CN="Dolors Sanchis":MAILTO:dsanchisalos@gmail.com
END:VEVENT
BEGIN:VEVENT
DTSTART;TZID=Europe/Madrid:20260618T191500
DTEND;TZID=Europe/Madrid:20260618T211500
DTSTAMP:20260424T122505
CREATED:20260414T154238Z
LAST-MODIFIED:20260414T154238Z
UID:5918-1781810100-1781817300@www.escuelakintsugi.com
SUMMARY:BIODANZAalcoi
DESCRIPTION:Grup regular de Biodanza\n(nivell iniciació)
URL:https://www.escuelakintsugi.com/evento/biodanzaalcoi-30
LOCATION:Tiferet\, C/ Reconquesta\, 20\, Alcoi\, Alacant
CATEGORIES:Biodanza
ORGANIZER;CN="Dolors Sanchis":MAILTO:dsanchisalos@gmail.com
END:VEVENT
BEGIN:VEVENT
DTSTART;TZID=Europe/Madrid:20260625T191500
DTEND;TZID=Europe/Madrid:20260625T211500
DTSTAMP:20260424T122505
CREATED:20260414T154258Z
LAST-MODIFIED:20260414T154258Z
UID:5917-1782414900-1782422100@www.escuelakintsugi.com
SUMMARY:BIODANZAalcoi
DESCRIPTION:Grup regular de Biodanza\n(nivell iniciació)
URL:https://www.escuelakintsugi.com/evento/biodanzaalcoi-31
LOCATION:Tiferet\, C/ Reconquesta\, 20\, Alcoi\, Alacant
CATEGORIES:Biodanza
ORGANIZER;CN="Dolors Sanchis":MAILTO:dsanchisalos@gmail.com
END:VEVENT
END:VCALENDAR