BEGIN:VCALENDAR
VERSION:2.0
PRODID:-//Escuela Kintsugi - ECPv6.15.20//NONSGML v1.0//EN
CALSCALE:GREGORIAN
METHOD:PUBLISH
X-ORIGINAL-URL:https://www.escuelakintsugi.com
X-WR-CALDESC:Eventos para Escuela Kintsugi
REFRESH-INTERVAL;VALUE=DURATION:PT1H
X-Robots-Tag:noindex
X-PUBLISHED-TTL:PT1H
BEGIN:VTIMEZONE
TZID:Europe/Madrid
BEGIN:DAYLIGHT
TZOFFSETFROM:+0100
TZOFFSETTO:+0200
TZNAME:CEST
DTSTART:20250330T010000
END:DAYLIGHT
BEGIN:STANDARD
TZOFFSETFROM:+0200
TZOFFSETTO:+0100
TZNAME:CET
DTSTART:20251026T010000
END:STANDARD
BEGIN:DAYLIGHT
TZOFFSETFROM:+0100
TZOFFSETTO:+0200
TZNAME:CEST
DTSTART:20260329T010000
END:DAYLIGHT
BEGIN:STANDARD
TZOFFSETFROM:+0200
TZOFFSETTO:+0100
TZNAME:CET
DTSTART:20261025T010000
END:STANDARD
BEGIN:DAYLIGHT
TZOFFSETFROM:+0100
TZOFFSETTO:+0200
TZNAME:CEST
DTSTART:20270328T010000
END:DAYLIGHT
BEGIN:STANDARD
TZOFFSETFROM:+0200
TZOFFSETTO:+0100
TZNAME:CET
DTSTART:20271031T010000
END:STANDARD
END:VTIMEZONE
BEGIN:VEVENT
DTSTART;VALUE=DATE:20260101
DTEND;VALUE=DATE:20260102
DTSTAMP:20260420T190406
CREATED:20251214T151823Z
LAST-MODIFIED:20251214T152020Z
UID:5768-1767225600-1767311999@www.escuelakintsugi.com
SUMMARY:Feliç any nou!
DESCRIPTION:Feliç 2026!\nEn el 2026\, caminem cap a la llum. \nCelebrem la vida!
URL:https://www.escuelakintsugi.com/evento/felic-any-nou
LOCATION:Alacant
CATEGORIES:Biodanza,Constelaciones Familiares,Metamedicina,Referencial Nacimiento,Reiki,Sonidos Curativos,Tarot
ORGANIZER;CN="Dolors Sanchis":MAILTO:dsanchisalos@gmail.com
END:VEVENT
BEGIN:VEVENT
DTSTART;TZID=Europe/Madrid:20260108T191500
DTEND;TZID=Europe/Madrid:20260108T211500
DTSTAMP:20260420T190406
CREATED:20251210T113307Z
LAST-MODIFIED:20251210T113335Z
UID:5749-1767899700-1767906900@www.escuelakintsugi.com
SUMMARY:BIODANZAalcoi
DESCRIPTION:Altre any dansant!\n(8 de gener)\nGrup regular de Biodanza (nivell iniciació) \nEncara no has vingut a provar?
URL:https://www.escuelakintsugi.com/evento/biodanzaalcoi-8
LOCATION:Tiferet\, C/ Reconquesta\, 20\, Alcoi\, Alacant
CATEGORIES:Biodanza
ORGANIZER;CN="Dolors Sanchis":MAILTO:dsanchisalos@gmail.com
END:VEVENT
BEGIN:VEVENT
DTSTART;TZID=Europe/Madrid:20260115T191500
DTEND;TZID=Europe/Madrid:20260115T211500
DTSTAMP:20260420T190406
CREATED:20260113T132131Z
LAST-MODIFIED:20260113T132131Z
UID:5774-1768504500-1768511700@www.escuelakintsugi.com
SUMMARY:BIODANZAalcoi
DESCRIPTION:Al 2026 dansem!\n(15 de gener)\nGrup regular de Biodanza (nivell iniciació) \nEncara no has vingut a provar?
URL:https://www.escuelakintsugi.com/evento/biodanzaalcoi-10
LOCATION:Tiferet\, C/ Reconquesta\, 20\, Alcoi\, Alacant
CATEGORIES:Biodanza
ORGANIZER;CN="Dolors Sanchis":MAILTO:dsanchisalos@gmail.com
END:VEVENT
BEGIN:VEVENT
DTSTART;TZID=Europe/Madrid:20260118T163000
DTEND;TZID=Europe/Madrid:20260118T200000
DTSTAMP:20260420T190406
CREATED:20260115T085234Z
LAST-MODIFIED:20260115T085234Z
UID:5788-1768753800-1768766400@www.escuelakintsugi.com
SUMMARY:Café y tarot
DESCRIPTION:Café y Tarot ☕🥧\n“2026: tu propuesta personal de crecimiento” \n✨Talleres terapéuticos de evolución consciente a través del Tarot\nDolors Sanchis \nDomingo 18 de enero 16.30h – 20h\nLa Botica\, C/ Xixona\, 17 (Alcoi) \n– ¿Qué energías se moverán en mi vida durante el 2026?\n– ¿De qué recursos dispongo para seguir adelante?\n– ¿Qué estoy en condiciones de modificar\, eliminar o incorporar a mi vida?\n– ¿Cuáles son mis deseos más profundos en esta etapa vital? \n  \nCada año nos trae una energía diferente y por eso te ofrecemos la posibilidad de descubrir a través del Tarot la propuesta de crecimiento que el 2026 tiene para ti. Conociéndola\, podrás elegir y enfocarte conscientemente hacia lo que tu alma realmente desea. \nY\, sobre todo\, conocerás una manera autónoma de utilizar el Tarot totalmente diferente a lo que conoces (no hay interpretaciones\, lecturas ni predicciones) \nInscríbete en 654 43 96 73 – 605 21 78 92 \nTe proponemos una tarde de domingo diferente\, amena\, agradable y útil\, con merienda incluida\, donde podrás conocerte mejor y compartir sabiduría con personas afines a ti. \n¡Ven a darte un gusto! \nToma las riendas y decide qué quieres perder\, soltar\, modificar o empezar este año 2026 para crecer y mejorar tu vida. ¡El Tarot te ayuda! \n🌻Grupo reducido y atención personalizada \n🌻Trabajamos con el Tarot de Marsella de Grimaud. \n🌻Tráete tu Tarot\, libreta y boli para anotar. Si no tienes Tarot\, nosotros te lo facilitamos. \nAportación: 20€\n654 43 96 73 – 605 21 78 92
URL:https://www.escuelakintsugi.com/evento/cafe-y-tarot
LOCATION:La Botica\, c/ Xixona\, 17\, Alcoi\, Alacant\, 03802\, Spain
CATEGORIES:Tarot
ORGANIZER;CN="Dolors Sanchis":MAILTO:dsanchisalos@gmail.com
END:VEVENT
BEGIN:VEVENT
DTSTART;TZID=Europe/Madrid:20260122T191500
DTEND;TZID=Europe/Madrid:20260122T211500
DTSTAMP:20260420T190406
CREATED:20260113T132325Z
LAST-MODIFIED:20260113T132325Z
UID:5782-1769109300-1769116500@www.escuelakintsugi.com
SUMMARY:BIODANZAalcoi
DESCRIPTION:Per un 2026 ple d’alegria!\n(22 de gener)\nGrup regular de Biodanza (nivell iniciació) \nEncara no has vingut a provar?
URL:https://www.escuelakintsugi.com/evento/biodanzaalcoi-11
LOCATION:Tiferet\, C/ Reconquesta\, 20\, Alcoi\, Alacant
CATEGORIES:Biodanza
ORGANIZER;CN="Dolors Sanchis":MAILTO:dsanchisalos@gmail.com
END:VEVENT
BEGIN:VEVENT
DTSTART;TZID=Europe/Madrid:20260129T191500
DTEND;TZID=Europe/Madrid:20260129T211500
DTSTAMP:20260420T190406
CREATED:20260113T132419Z
LAST-MODIFIED:20260129T131342Z
UID:5784-1769714100-1769721300@www.escuelakintsugi.com
SUMMARY:BIODANZAalcoi
DESCRIPTION:Per un 2026 ple d’autoregulació!\n(29 de gener)\nGrup regular de Biodanza (nivell iniciació) \nAnima’t a escoltar-te!
URL:https://www.escuelakintsugi.com/evento/biodanzaalcoi-12
LOCATION:Tiferet\, C/ Reconquesta\, 20\, Alcoi\, Alacant
CATEGORIES:Biodanza
ORGANIZER;CN="Dolors Sanchis":MAILTO:dsanchisalos@gmail.com
END:VEVENT
END:VCALENDAR