BEGIN:VCALENDAR
VERSION:2.0
PRODID:-//Escuela Kintsugi - ECPv6.15.20//NONSGML v1.0//EN
CALSCALE:GREGORIAN
METHOD:PUBLISH
X-ORIGINAL-URL:https://www.escuelakintsugi.com
X-WR-CALDESC:Eventos para Escuela Kintsugi
REFRESH-INTERVAL;VALUE=DURATION:PT1H
X-Robots-Tag:noindex
X-PUBLISHED-TTL:PT1H
BEGIN:VTIMEZONE
TZID:Europe/Madrid
BEGIN:DAYLIGHT
TZOFFSETFROM:+0100
TZOFFSETTO:+0200
TZNAME:CEST
DTSTART:20240331T010000
END:DAYLIGHT
BEGIN:STANDARD
TZOFFSETFROM:+0200
TZOFFSETTO:+0100
TZNAME:CET
DTSTART:20241027T010000
END:STANDARD
BEGIN:DAYLIGHT
TZOFFSETFROM:+0100
TZOFFSETTO:+0200
TZNAME:CEST
DTSTART:20250330T010000
END:DAYLIGHT
BEGIN:STANDARD
TZOFFSETFROM:+0200
TZOFFSETTO:+0100
TZNAME:CET
DTSTART:20251026T010000
END:STANDARD
BEGIN:DAYLIGHT
TZOFFSETFROM:+0100
TZOFFSETTO:+0200
TZNAME:CEST
DTSTART:20260329T010000
END:DAYLIGHT
BEGIN:STANDARD
TZOFFSETFROM:+0200
TZOFFSETTO:+0100
TZNAME:CET
DTSTART:20261025T010000
END:STANDARD
END:VTIMEZONE
BEGIN:VEVENT
DTSTART;TZID=Europe/Madrid:20251113T191500
DTEND;TZID=Europe/Madrid:20251113T211500
DTSTAMP:20260422T120030
CREATED:20251113T114243Z
LAST-MODIFIED:20251113T115042Z
UID:5733-1763061300-1763068500@www.escuelakintsugi.com
SUMMARY:BIODANZAalcoi "Dansa de Tardor"
DESCRIPTION:“Dansa de Tardor” \nDansar el canvi\, deixar anar i obrir-nos (13 de novembre)\n\n\nSessió especial de Tardor\nHui celebrem la dansa de la tardor 🍂Una trobada per dansar el canvi\, deixar anar el que ja no ens serveix i obrir-nos al nou cicle que comença. \nQUAN? Dijous 13 de novembre a les 19.15h\nON? En Tiferet\, C/ Reconquesta\, 20\nInformació i inscripcions: 654 439 673 i 699 972 119
URL:https://www.escuelakintsugi.com/evento/biodanzaalcoi-dansa-de-tardor
LOCATION:Tiferet\, C/ Reconquesta\, 20\, Alcoi\, Alacant
CATEGORIES:Biodanza
ORGANIZER;CN="Dolors Sanchis":MAILTO:dsanchisalos@gmail.com
END:VEVENT
BEGIN:VEVENT
DTSTART;TZID=Europe/Madrid:20251120T191500
DTEND;TZID=Europe/Madrid:20251120T211500
DTSTAMP:20260422T120030
CREATED:20251127T170007Z
LAST-MODIFIED:20251127T170007Z
UID:5739-1763666100-1763673300@www.escuelakintsugi.com
SUMMARY:BIODANZAalcoi
DESCRIPTION:Seguim dansant!\n(20 de novembre)\nGrup regular de Biodanza (nivell iniciació) \nAnima’t i vine a provar!
URL:https://www.escuelakintsugi.com/evento/biodanzaalcoi-3
LOCATION:Tiferet\, C/ Reconquesta\, 20\, Alcoi\, Alacant
CATEGORIES:Biodanza
ORGANIZER;CN="Dolors Sanchis":MAILTO:dsanchisalos@gmail.com
END:VEVENT
BEGIN:VEVENT
DTSTART;TZID=Europe/Madrid:20251127T191500
DTEND;TZID=Europe/Madrid:20251127T211500
DTSTAMP:20260422T120030
CREATED:20251127T170106Z
LAST-MODIFIED:20251127T170106Z
UID:5741-1764270900-1764278100@www.escuelakintsugi.com
SUMMARY:BIODANZAalcoi
DESCRIPTION:Seguim dansant!\n(27 de novembre)\nGrup regular de Biodanza (nivell iniciació) \nAnima’t i vine a provar!
URL:https://www.escuelakintsugi.com/evento/biodanzaalcoi-4
LOCATION:Tiferet\, C/ Reconquesta\, 20\, Alcoi\, Alacant
CATEGORIES:Biodanza
ORGANIZER;CN="Dolors Sanchis":MAILTO:dsanchisalos@gmail.com
END:VEVENT
END:VCALENDAR