BEGIN:VCALENDAR
VERSION:2.0
PRODID:-//Escuela Kintsugi - ECPv6.15.20//NONSGML v1.0//EN
CALSCALE:GREGORIAN
METHOD:PUBLISH
X-WR-CALNAME:Escuela Kintsugi
X-ORIGINAL-URL:https://www.escuelakintsugi.com
X-WR-CALDESC:Eventos para Escuela Kintsugi
REFRESH-INTERVAL;VALUE=DURATION:PT1H
X-Robots-Tag:noindex
X-PUBLISHED-TTL:PT1H
BEGIN:VTIMEZONE
TZID:Europe/Madrid
BEGIN:DAYLIGHT
TZOFFSETFROM:+0100
TZOFFSETTO:+0200
TZNAME:CEST
DTSTART:20220327T010000
END:DAYLIGHT
BEGIN:STANDARD
TZOFFSETFROM:+0200
TZOFFSETTO:+0100
TZNAME:CET
DTSTART:20221030T010000
END:STANDARD
BEGIN:DAYLIGHT
TZOFFSETFROM:+0100
TZOFFSETTO:+0200
TZNAME:CEST
DTSTART:20230326T010000
END:DAYLIGHT
BEGIN:STANDARD
TZOFFSETFROM:+0200
TZOFFSETTO:+0100
TZNAME:CET
DTSTART:20231029T010000
END:STANDARD
BEGIN:DAYLIGHT
TZOFFSETFROM:+0100
TZOFFSETTO:+0200
TZNAME:CEST
DTSTART:20240331T010000
END:DAYLIGHT
BEGIN:STANDARD
TZOFFSETFROM:+0200
TZOFFSETTO:+0100
TZNAME:CET
DTSTART:20241027T010000
END:STANDARD
END:VTIMEZONE
BEGIN:VEVENT
DTSTART;VALUE=DATE:20230204
DTEND;VALUE=DATE:20230206
DTSTAMP:20260426T055649
CREATED:20221123T112256Z
LAST-MODIFIED:20221123T112256Z
UID:5191-1675468800-1675641599@www.escuelakintsugi.com
SUMMARY:Maestría de Reiki (II)
DESCRIPTION:Puedes hacer la Maestría de Reiki porque deseas saber más sobre el Reiki y atender mejor a las personas que se acercan a ti. Eso\, sin duda\, dará a tu vida una tonalidad muy distinta e\, inevitablemente\, te ayudará a ti\, a otros y al mundo que nos rodea. Pero si además quieres arde una pequeña llama que te impulsa a enseñar y transmitir el Reiki\, esta última parte de la formación te dará los conocimientos teóricos y prácticos que necesitas para iniciar tu camino también como docente de Reiki.
URL:https://www.escuelakintsugi.com/evento/maestria-de-reiki-ii
LOCATION:Sala Valencia\, Gran Vía Ramón y Cajal\, 36\, pta. 1 (Metro Angel Guimerá)\, Valencia\, Valencia\, 46007\, España
CATEGORIES:Reiki
END:VEVENT
BEGIN:VEVENT
DTSTART;TZID=Europe/Madrid:20230211T163000
DTEND;TZID=Europe/Madrid:20230211T200000
DTSTAMP:20260426T055649
CREATED:20230208T093114Z
LAST-MODIFIED:20230208T093114Z
UID:5268-1676133000-1676145600@www.escuelakintsugi.com
SUMMARY:Encuentro de Reiki
DESCRIPTION:«Dar\, recibir\, compartir»\nAhora tienes la oportunidad de acercarte al Reiki y disfrutar de la paz y la serenidad que proporciona. \nVen a conocer\, practicar o profundizar en el Reiki.\nRecibirás una sesión completa de Reiki y podrás adquirir y compartir conocimientos importantes para tu bienestar y tu crecimiento.
URL:https://www.escuelakintsugi.com/evento/encuentro-de-reiki-4
LOCATION:Sala Valencia\, Gran Vía Ramón y Cajal\, 36\, pta. 1 (Metro Angel Guimerá)\, Valencia\, Valencia\, 46007\, España
CATEGORIES:Reiki
END:VEVENT
BEGIN:VEVENT
DTSTART;VALUE=DATE:20230225
DTEND;VALUE=DATE:20230227
DTSTAMP:20260426T055649
CREATED:20221123T112449Z
LAST-MODIFIED:20221123T112556Z
UID:5193-1677283200-1677455999@www.escuelakintsugi.com
SUMMARY:Segundo Nivel de Reiki
DESCRIPTION:Formación Segundo Nivel de Reiki \nDespués de haber recibido la sintonización de primer nivel\, con el Segundo nivel de Reiki\, gracias aprendizaje del uso de los 3 primeros símbolos del Reiki\, de los protocolos de la sanación a distancia y del tratamiento mental emocional\, accedemos a un mayor potencial de aplicación en los niveles físico\, energético\, mental\, emocional y espiritual y en todo de tipo de circunstancias y lugares. \nImparte: Dolors Sanchis (maestra de Reiki)
URL:https://www.escuelakintsugi.com/evento/segundo-nivel-de-reiki-2
LOCATION:Alacant
CATEGORIES:Reiki
END:VEVENT
END:VCALENDAR