BEGIN:VCALENDAR
VERSION:2.0
PRODID:-//Escuela Kintsugi - ECPv6.15.20//NONSGML v1.0//EN
CALSCALE:GREGORIAN
METHOD:PUBLISH
X-ORIGINAL-URL:https://www.escuelakintsugi.com
X-WR-CALDESC:Eventos para Escuela Kintsugi
REFRESH-INTERVAL;VALUE=DURATION:PT1H
X-Robots-Tag:noindex
X-PUBLISHED-TTL:PT1H
BEGIN:VTIMEZONE
TZID:Europe/Madrid
BEGIN:DAYLIGHT
TZOFFSETFROM:+0100
TZOFFSETTO:+0200
TZNAME:CEST
DTSTART:20240331T010000
END:DAYLIGHT
BEGIN:STANDARD
TZOFFSETFROM:+0200
TZOFFSETTO:+0100
TZNAME:CET
DTSTART:20241027T010000
END:STANDARD
BEGIN:DAYLIGHT
TZOFFSETFROM:+0100
TZOFFSETTO:+0200
TZNAME:CEST
DTSTART:20250330T010000
END:DAYLIGHT
BEGIN:STANDARD
TZOFFSETFROM:+0200
TZOFFSETTO:+0100
TZNAME:CET
DTSTART:20251026T010000
END:STANDARD
BEGIN:DAYLIGHT
TZOFFSETFROM:+0100
TZOFFSETTO:+0200
TZNAME:CEST
DTSTART:20260329T010000
END:DAYLIGHT
BEGIN:STANDARD
TZOFFSETFROM:+0200
TZOFFSETTO:+0100
TZNAME:CET
DTSTART:20261025T010000
END:STANDARD
END:VTIMEZONE
BEGIN:VEVENT
DTSTART;TZID=Europe/Madrid:20251204T191500
DTEND;TZID=Europe/Madrid:20251204T211500
DTSTAMP:20260422T145016
CREATED:20251210T113011Z
LAST-MODIFIED:20251210T113011Z
UID:5743-1764875700-1764882900@www.escuelakintsugi.com
SUMMARY:BIODANZAalcoi
DESCRIPTION:Seguim dansant!\n(4 de desembre)\nGrup regular de Biodanza (nivell iniciació) \nAnima’t i vine a provar!
URL:https://www.escuelakintsugi.com/evento/biodanzaalcoi-5
LOCATION:Tiferet\, C/ Reconquesta\, 20\, Alcoi\, Alacant
CATEGORIES:Biodanza
ORGANIZER;CN="Dolors Sanchis":MAILTO:dsanchisalos@gmail.com
END:VEVENT
BEGIN:VEVENT
DTSTART;TZID=Europe/Madrid:20251211T191500
DTEND;TZID=Europe/Madrid:20251211T211500
DTSTAMP:20260422T145016
CREATED:20251210T113117Z
LAST-MODIFIED:20251210T113117Z
UID:5745-1765480500-1765487700@www.escuelakintsugi.com
SUMMARY:BIODANZAalcoi
DESCRIPTION:Seguim dansant!\n(11 de desembre)\nGrup regular de Biodanza (nivell iniciació) \nAnima’t i vine a provar!
URL:https://www.escuelakintsugi.com/evento/biodanzaalcoi-6
LOCATION:Tiferet\, C/ Reconquesta\, 20\, Alcoi\, Alacant
CATEGORIES:Biodanza
ORGANIZER;CN="Dolors Sanchis":MAILTO:dsanchisalos@gmail.com
END:VEVENT
BEGIN:VEVENT
DTSTART;TZID=Europe/Madrid:20251218T191500
DTEND;TZID=Europe/Madrid:20251218T211500
DTSTAMP:20260422T145016
CREATED:20251210T113152Z
LAST-MODIFIED:20251214T151341Z
UID:5747-1766085300-1766092500@www.escuelakintsugi.com
SUMMARY:BIODANZAalcoi "Màgia i il·lusió"
DESCRIPTION:Última classe del 2025!\n(18 de desembre)\nGrup regular de Biodanza (nivell iniciació) \nL’última sessió del 2025\, per reconnectar amb la capacitat de meravellar-nos\, amb la il·lusió que habita en els gestos senzills i en el compartir.\n \nCom en Nadal i el camí dels Reis Mags\, ens permetem caminar des del desig\, obrint espai a la sorpresa\, a la confiança i a l’esperança.\n \nUna experiència viscuda des del cos\, la presència i la tendresa. 🌟 \nMai és tard per a provar!
URL:https://www.escuelakintsugi.com/evento/biodanzaalcoi-7
LOCATION:Tiferet\, C/ Reconquesta\, 20\, Alcoi\, Alacant
CATEGORIES:Biodanza
ORGANIZER;CN="Dolors Sanchis":MAILTO:dsanchisalos@gmail.com
END:VEVENT
BEGIN:VEVENT
DTSTART;VALUE=DATE:20251225
DTEND;VALUE=DATE:20251226
DTSTAMP:20260422T145016
CREATED:20251214T150457Z
LAST-MODIFIED:20251214T151910Z
UID:5751-1766620800-1766707199@www.escuelakintsugi.com
SUMMARY:Bon Nadal!
DESCRIPTION:Que passeu un bon Nadal!\nRecordeu: Nadal és celebració\, companyia i una mirada amable al que ha sigut. \nCelebrem la vida!
URL:https://www.escuelakintsugi.com/evento/bon-nadal
LOCATION:Alacant
CATEGORIES:Biodanza,Constelaciones Familiares,Metamedicina,Referencial Nacimiento,Reiki,Sonidos Curativos,Tarot
ORGANIZER;CN="Dolors Sanchis":MAILTO:dsanchisalos@gmail.com
END:VEVENT
END:VCALENDAR